BEGIN:VCALENDAR
PRODID:/modules.php?act=getical&eid=1579&name=Schedule
VERSION:2.0
CALSCALE:GREGORIAN
METHOD:PUBLISH
X-WR-CALNAME:Athen Magazin & Aegina Guide-Mario Brunello spielt Bach für Cello piccolo
X-WR-TIMEZONE:Europe/Athens
X-WR-CALDESC:Original by https://athen-magazin.info/
 Created by mxSchedule 
 Tecmu 2010-2026
BEGIN:VTIMEZONE
TZID:Europe/Athens
X-LIC-LOCATION:Europe/Athens
BEGIN:STANDARD
TZOFFSETFROM:+0100
TZOFFSETTO:+0200
TZNAME:EEST
DTSTART:19701025T030000
RRULE:FREQ=YEARLY;BYMONTH=10;BYDAY=-1SU
END:STANDARD
BEGIN:DAYLIGHT
TZOFFSETFROM:+0100
TZOFFSETTO:+0200
TZNAME:CEST
DTSTART:19700329T020000
RRULE:FREQ=YEARLY;BYMONTH=4;BYDAY=1SU
END:DAYLIGHT
END:VTIMEZONE
BEGIN:VEVENT
ORGANIZER;CN=Inger-ingridkuhn2004@yahoo.gr
DTSTART:20260505T200530
DTEND:20260505T140545
UID:1a93e93c0b9622782b37834d84018893
CREATED:20260424T170454
SUMMARY:Mario Brunello spielt Bach für Cello piccolo
DESCRIPTION:

Mario Brunello spielt Bach f&uuml;r Cello piccolo

Der italienische Cello-Virtuose Mario Brunelli gibt am Dienstag, den 5.Mai, ein Recital im Athener Megaron Musikis. &nbsp;

Auf dem Programm stehen Werke von Johann Sebastian Bach f&uuml;r Cello piccolo. &nbsp;

&nbsp;

Mehr Infos und Tickets hier &gt; &gt; &gt;


Wo: Megaro Musikis, Leoforos Vasilissis Sofias &amp; Kokkali&nbsp;&nbsp;

Beginn: 20.30 Uhr

Eintritt: 16&euro; &amp; 25&euro;, Stud. 10&euro;&nbsp;&nbsp;

Info-Tel.: 210- 7282333

www.megaron.gr &nbsp;





&nbsp;
 Veröffentlicht von  https://athen-magazin.info/
LAST-MODIFIED:20260424T170454
END:VEVENT
END:VCALENDAR
